View In:
ArcGIS JavaScript
ArcGIS Online map viewer
Google Earth
ArcMap
ArcGIS Explorer
View Footprint In:
ArcGIS Online map viewer
Service Description: This service contains aerial imagery captured in spring 2023 at 3in pixel resolution by Woolpert.
Map Name: Layers
Legend
All Layers and Tables
Layers:
Description:
Copyright Text:
Spatial Reference:
102723
(3735)
Single Fused Map Cache: true
Tile Info:
- Height: 256
- Width: 256
- DPI: 96
-
Levels of Detail: 22
-
Level ID: 0
[ Start Tile, End Tile ]
- Resolution: 513591.6038121137
- Scale: 5.91657527591555E8
-
Level ID: 1
[ Start Tile, End Tile ]
- Resolution: 256795.80190605644
- Scale: 2.95828763795777E8
-
Level ID: 2
[ Start Tile, End Tile ]
- Resolution: 128397.90095302863
- Scale: 1.47914381897889E8
-
Level ID: 3
[ Start Tile, End Tile ]
- Resolution: 64198.950476513884
- Scale: 7.3957190948944E7
-
Level ID: 4
[ Start Tile, End Tile ]
- Resolution: 32099.475238256942
- Scale: 3.6978595474472E7
-
Level ID: 5
[ Start Tile, End Tile ]
- Resolution: 16049.737619128471
- Scale: 1.8489297737236E7
- Format: MIXED
- Compression Quality: 75.0
- Origin: X: -1.196707E8
Y: 1.4766550000000003E8
- Spatial Reference: 102723
(3735)
Initial Extent:
XMin: 1731332.1707289068
YMin: 610803.3616469167
XMax: 2222454.141873707
YMax: 921365.7845767171
Spatial Reference: 102723
(3735)
Full Extent:
XMin: 1889310.314860642
YMin: 696963.439599216
XMax: 2057050.6060198098
YMax: 829443.3721453846
Spatial Reference: 102723
(3735)
Units: esriFeet
Supported Image Format Types: PNG32,PNG24,PNG,JPG,DIB,TIFF,EMF,PS,PDF,GIF,SVG,SVGZ,BMP
Document Info:
Title:
Author:
Comments: This service contains aerial imagery captured in spring 2023 at 3in pixel resolution by Woolpert.
Subject: This service contains aerial imagery captured in spring 2023 at 3in pixel resolution by Woolpert.
Category:
Keywords: licking county,auditor,imagery
AntialiasingMode: None
TextAntialiasingMode: Force
Supports Dynamic Layers: false
MaxRecordCount: 1000
MaxImageHeight: 4096
MaxImageWidth: 4096
Supported Query Formats: JSON, AMF
Min Scale: 5.91657527591555E8
Max Scale: 282.124294
Child Resources:
Info
Supported Operations:
Export Map
Identify
Find
Return Updates