{
 "currentVersion": 10.31,
 "serviceDescription": "This service contains aerial imagery captured in spring 2020 at 3in pixel resolution by Woolpert.",
 "mapName": "Layers",
 "description": "",
 "copyrightText": "",
 "supportsDynamicLayers": false,
 "layers": [
  {
   "id": 0,
   "name": "Regional Hillshaded Imagery",
   "parentLayerId": -1,
   "defaultVisibility": true,
   "subLayerIds": null,
   "minScale": 0,
   "maxScale": 0
  }
 ],
 "tables": [],
 "spatialReference": {
  "wkid": 102723,
  "latestWkid": 3735
 },
 "singleFusedMapCache": true,
 "tileInfo": {
  "rows": 256,
  "cols": 256,
  "dpi": 96,
  "format": "MIXED",
  "compressionQuality": 75,
  "origin": {
   "x": -119670700,
   "y": 1.4766550000000003E8
  },
  "spatialReference": {
   "wkid": 102723,
   "latestWkid": 3735
  },
  "lods": [
   {
    "level": 0,
    "resolution": 513591.6038121137,
    "scale": 5.91657527591555E8
   },
   {
    "level": 1,
    "resolution": 256795.80190605644,
    "scale": 2.95828763795777E8
   },
   {
    "level": 2,
    "resolution": 128397.90095302863,
    "scale": 1.47914381897889E8
   },
   {
    "level": 3,
    "resolution": 64198.950476513884,
    "scale": 7.3957190948944E7
   },
   {
    "level": 4,
    "resolution": 32099.475238256942,
    "scale": 3.6978595474472E7
   },
   {
    "level": 5,
    "resolution": 16049.737619128471,
    "scale": 1.8489297737236E7
   },
   {
    "level": 6,
    "resolution": 8024.868809564236,
    "scale": 9244648.868618
   },
   {
    "level": 7,
    "resolution": 4012.434404782118,
    "scale": 4622324.434309
   },
   {
    "level": 8,
    "resolution": 2006.2172023914932,
    "scale": 2311162.217155
   },
   {
    "level": 9,
    "resolution": 1003.1086011953124,
    "scale": 1155581.108577
   },
   {
    "level": 10,
    "resolution": 501.55430059809026,
    "scale": 577790.554289
   },
   {
    "level": 11,
    "resolution": 250.7771502986111,
    "scale": 288895.277144
   },
   {
    "level": 12,
    "resolution": 125.38857514930555,
    "scale": 144447.638572
   },
   {
    "level": 13,
    "resolution": 62.694287574652776,
    "scale": 72223.819286
   },
   {
    "level": 14,
    "resolution": 31.347143787326388,
    "scale": 36111.909643
   },
   {
    "level": 15,
    "resolution": 15.673571894097222,
    "scale": 18055.954822
   },
   {
    "level": 16,
    "resolution": 7.836785947048611,
    "scale": 9027.977411
   },
   {
    "level": 17,
    "resolution": 3.9183929730902776,
    "scale": 4513.988705
   },
   {
    "level": 18,
    "resolution": 1.9591964869791667,
    "scale": 2256.994353
   },
   {
    "level": 19,
    "resolution": 0.9795982430555555,
    "scale": 1128.497176
   }
  ]
 },
 "initialExtent": {
  "xmin": 1441701.2806099306,
  "ymin": 499859.5503542687,
  "xmax": 2545923.2288066857,
  "ymax": 1123391.8568578144,
  "spatialReference": {
   "wkid": 102723,
   "latestWkid": 3735
  }
 },
 "fullExtent": {
  "xmin": 1752150.957618177,
  "ymin": 495873.71284241974,
  "xmax": 2214760.3345629275,
  "ymax": 988289.1325371712,
  "spatialReference": {
   "wkid": 102723,
   "latestWkid": 3735
  }
 },
 "minScale": 5.91657527591555E8,
 "maxScale": 1128.497176,
 "units": "esriFeet",
 "supportedImageFormatTypes": "PNG32,PNG24,PNG,JPG,DIB,TIFF,EMF,PS,PDF,GIF,SVG,SVGZ,BMP",
 "documentInfo": {
  "Title": "",
  "Author": "",
  "Comments": "This service contains aerial imagery captured in spring 2020 at 3in pixel resolution by Woolpert.",
  "Subject": "This service contains aerial imagery captured in spring 2020 at 3in pixel resolution by Woolpert.",
  "Category": "",
  "AntialiasingMode": "None",
  "TextAntialiasingMode": "Force",
  "Keywords": "licking county,auditor,imagery"
 },
 "capabilities": "Map,Query,Data",
 "supportedQueryFormats": "JSON, AMF",
 "exportTilesAllowed": false,
 "maxRecordCount": 1000,
 "maxImageHeight": 4096,
 "maxImageWidth": 4096,
 "supportedExtensions": ""
}
